BEGIN:VCALENDAR
VERSION:2.0
PRODID:-//Rememberingwyattdale.org - ECPv4.6.12//NONSGML v1.0//EN
CALSCALE:GREGORIAN
METHOD:PUBLISH
X-WR-CALNAME:Rememberingwyattdale.org
X-ORIGINAL-URL:https://rememberingwyattdale.org
X-WR-CALDESC:Events for Rememberingwyattdale.org
BEGIN:VEVENT
DTSTART;VALUE=DATE:20200418
DTEND;VALUE=DATE:20200419
DTSTAMP:20260423T092359
CREATED:20200527T203047Z
LAST-MODIFIED:20200527T203327Z
UID:1645-1587168000-1587254399@rememberingwyattdale.org
SUMMARY:Rotary Club of Graham Duck Derby - Postponed
DESCRIPTION:
URL:https://rememberingwyattdale.org/event/rotary-club-of-graham-duck-derby-postponed/
END:VEVENT
END:VCALENDAR