BEGIN:VCALENDAR
VERSION:2.0
PRODID:-//Rememberingwyattdale.org - ECPv4.6.12//NONSGML v1.0//EN
CALSCALE:GREGORIAN
METHOD:PUBLISH
X-WR-CALNAME:Rememberingwyattdale.org
X-ORIGINAL-URL:https://rememberingwyattdale.org
X-WR-CALDESC:Events for Rememberingwyattdale.org
BEGIN:VEVENT
DTSTART;VALUE=DATE:20200502
DTEND;VALUE=DATE:20200503
DTSTAMP:20260422T134832
CREATED:20200527T203122Z
LAST-MODIFIED:20200527T203122Z
UID:1647-1588377600-1588463999@rememberingwyattdale.org
SUMMARY:Hood County Safety Day | Granbury\, TX - Cancelled
DESCRIPTION:
URL:https://rememberingwyattdale.org/event/hood-county-safety-day-granbury-tx-cancelled/
END:VEVENT
END:VCALENDAR