BEGIN:VCALENDAR
VERSION:2.0
PRODID:-//Rememberingwyattdale.org - ECPv4.6.12//NONSGML v1.0//EN
CALSCALE:GREGORIAN
METHOD:PUBLISH
X-WR-CALNAME:Rememberingwyattdale.org
X-ORIGINAL-URL:https://rememberingwyattdale.org
X-WR-CALDESC:Events for Rememberingwyattdale.org
BEGIN:VEVENT
DTSTART;VALUE=DATE:20200508
DTEND;VALUE=DATE:20200509
DTSTAMP:20260422T042102
CREATED:20200527T203230Z
LAST-MODIFIED:20200527T203230Z
UID:1651-1588896000-1588982399@rememberingwyattdale.org
SUMMARY:GISD Water Safety Presentation - Cancelled
DESCRIPTION:
URL:https://rememberingwyattdale.org/event/gisd-water-safety-presentation-cancelled/
END:VEVENT
END:VCALENDAR